BEGIN:VCALENDAR
PRODID:-//Networx Brisbane//Calendar//EN
VERSION:2.0
METHOD:PUBLISH
BEGIN:VEVENT
ORGANIZER;CN=Networx Brisbane:MAILTO:nxbris@networxevents.com.au
DTSTART:20190819T233000Z
DTEND:20190820T073000Z
DTSTAMP:20190628T043223Z
LAST-MODIFIED:20190812T231851Z
LOCATION:Loft West End, 100 Boundary Street, West End, QLD 4101
TRANSP:OPAQUE
SEQUENCE:0
UID:1-355
DESCRIPTION:Event details: http://brisbane.networxevents.com.au/events/customer-journey-masterclass2019\n\nCheers\nNetworx Brisbane\nVisit our website: http://brisbane.networxevents.com.au/\nEmail us: nxbris@networxevents.com.au\nCall us: 07 3876 4911\nManaged by Iceberg Events\nCONNECT WITH OTHERS...\nMake sure you click on Attendee List in your confirmation email so you can see who else is joining in on the fun!Make sure you add your LinkedIn and Twitter profile so that it appears on the online list: http://brisbane.networxevents.com.au/account/profile. To make it easier for peeps to connect with you on LinkedIn,make sure you join our group at https://www.linkedin.com/company/networxbrisbane/\nCONNECT WITH US...\nOur event hashtag is #nxbris #customerframe\nLinkedIn Group: https://www.linkedin.com/company/networxbrisbane/\nTwitter: https://twitter.com/networxevents\nFacebook: https://www.facebook.com/NetworxBrisbane/events\nInstagram: https://instagram.com/networxevents/\nYouTube: https://www.youtube.com/user/networxbrisbane\n
SUMMARY:Networx 'SMASH YOUR GOALS: CUSTOMER JOURNEY MAPPING MASTERCLASS' event - make sure I book before the event!
URL;VALUE=URL:http://brisbane.networxevents.com.au/events/customer-journey-masterclass2019
PRIORITY:5
X-MICROSOFT-CDO-IMPORTANCE:1
CLASS:PUBLIC
BEGIN:VALARM
TRIGGER:-PT4320M
ACTION:DISPLAY
DESCRIPTION:Reminder
END:VALARM
END:VEVENT
END:VCALENDAR
