BEGIN:VCALENDAR
PRODID:-//Networx Brisbane//Calendar//EN
VERSION:2.0
METHOD:PUBLISH
BEGIN:VEVENT
ORGANIZER;CN=Networx Brisbane:MAILTO:nxbris@networxevents.com.au
DTSTART:20180724T080000Z
DTEND:20180724T100000Z
DTSTAMP:20171205T045423Z
LAST-MODIFIED:20180727T061804Z
LOCATION:Botanic Gardens Cafe, 152 Mount Coot-tha Rd, Mount Coot-tha, QLD 4066
TRANSP:OPAQUE
SEQUENCE:0
UID:1-341
DESCRIPTION:Event details: http://brisbane.networxevents.com.au/events/july-2018\n\nCheers\nNetworx Brisbane\nVisit our website: http://brisbane.networxevents.com.au/\nEmail us: nxbris@networxevents.com.au\nCall us: 07 3876 4911\nManaged by Iceberg Events\nCONNECT WITH OTHERS...\nMake sure you click on Attendee List in your confirmation email so you can see who else is joining in on the fun!Make sure you add your LinkedIn and Twitter profile so that it appears on the online list: http://brisbane.networxevents.com.au/account/profile. To make it easier for peeps to connect with you on LinkedIn,make sure you join our group at https://www.linkedin.com/company/networxbrisbane/\nCONNECT WITH US...\nOur event hashtag is #nxbris #botanicgardenscafe\nLinkedIn Group: https://www.linkedin.com/company/networxbrisbane/\nTwitter: https://twitter.com/networxevents\nFacebook: https://www.facebook.com/NetworxBrisbane/events\nInstagram: https://instagram.com/networxevents/\nYouTube: https://www.youtube.com/user/networxbrisbane\n
SUMMARY:Networx 'Crafting Content for Social Media Success - The latest techniques to get your edge and keep it' event - make sure I book before the event!
URL;VALUE=URL:http://brisbane.networxevents.com.au/events/july-2018
PRIORITY:5
X-MICROSOFT-CDO-IMPORTANCE:1
CLASS:PUBLIC
BEGIN:VALARM
TRIGGER:-PT4320M
ACTION:DISPLAY
DESCRIPTION:Reminder
END:VALARM
END:VEVENT
END:VCALENDAR
